BEGIN:VCALENDAR
VERSION:2.0
PRODID:-//hacksw/handcal//NONSGML v1.0//EN
CALSCALE:GREGORIAN
BEGIN:VEVENT
DTEND:20220301T020000Z
UID:alaska_housing_finance_corporation-event-2189-02282022_080000
DTSTAMP:20260423T044924Z
LOCATION:Harris Harbor Way Juneau\, Alaska 99801
DESCRIPTION:Building Monitoring (BMON) is an open-source web application that allows users to track energy usage and equipment (boilers\, pumps\, lighting) remotely and helps identify ways to save energy and money.
URL;VALUE=URI:https://www.ahfc.us/events/building_monitoring_bmon_training
SUMMARY:Building Monitoring (BMON) Training
DTSTART:20220228T170000Z
END:VEVENT
BEGIN:VEVENT
DTEND:20220302T020000Z
UID:alaska_housing_finance_corporation-event-2189-03012022_080000
DTSTAMP:20260423T044924Z
LOCATION:Harris Harbor Way Juneau\, Alaska 99801
DESCRIPTION:Building Monitoring (BMON) is an open-source web application that allows users to track energy usage and equipment (boilers\, pumps\, lighting) remotely and helps identify ways to save energy and money.
URL;VALUE=URI:https://www.ahfc.us/events/building_monitoring_bmon_training
SUMMARY:Building Monitoring (BMON) Training
DTSTART:20220301T170000Z
END:VEVENT
BEGIN:VEVENT
DTEND:20220303T020000Z
UID:alaska_housing_finance_corporation-event-2189-03022022_080000
DTSTAMP:20260423T044924Z
LOCATION:Harris Harbor Way Juneau\, Alaska 99801
DESCRIPTION:Building Monitoring (BMON) is an open-source web application that allows users to track energy usage and equipment (boilers\, pumps\, lighting) remotely and helps identify ways to save energy and money.
URL;VALUE=URI:https://www.ahfc.us/events/building_monitoring_bmon_training
SUMMARY:Building Monitoring (BMON) Training
DTSTART:20220302T170000Z
END:VEVENT
BEGIN:VEVENT
DTEND:20220304T020000Z
UID:alaska_housing_finance_corporation-event-2189-03032022_080000
DTSTAMP:20260423T044924Z
LOCATION:Harris Harbor Way Juneau\, Alaska 99801
DESCRIPTION:Building Monitoring (BMON) is an open-source web application that allows users to track energy usage and equipment (boilers\, pumps\, lighting) remotely and helps identify ways to save energy and money.
URL;VALUE=URI:https://www.ahfc.us/events/building_monitoring_bmon_training
SUMMARY:Building Monitoring (BMON) Training
DTSTART:20220303T170000Z
END:VEVENT
END:VCALENDAR